BEGIN:VCALENDAR
VERSION:2.0
PRODID:-//demosphere.net//NONSGML kigkonsult.se iCalcreator 2.22.1//
METHOD:REQUEST
X-WR-TIMEZONE:Europe/Athens
BEGIN:VEVENT
UID:https://thessaloniki.kinimatorama.net/event/163768
DTSTAMP:20240314T013300Z
DESCRIPTION:περισσότερες πληροφορίες: https://thessaloniki.kinimatorama.net
 /event/163768 
DTSTART;VALUE=DATE:20240314
GEO:+40.633903;+22.95648
LOCATION:Θεσσαλονίκη\, \nΣχολή Θετικών Επιστημών (ΣΘΕ) ΑΠΘ
SUMMARY:Πρόγραμμα Κατάληψης Σ.Φ. Φυσικού
URL:https://thessaloniki.kinimatorama.net/event/163768
END:VEVENT
END:VCALENDAR
