BEGIN:VCALENDAR
VERSION:2.0
PRODID:-//demosphere.net//NONSGML kigkonsult.se iCalcreator 2.22.1//
METHOD:REQUEST
X-WR-TIMEZONE:Europe/Athens
BEGIN:VEVENT
UID:https://thessaloniki.kinimatorama.net/event/163896
DTSTAMP:20240321T070000Z
DESCRIPTION:περισσότερες πληροφορίες: https://thessaloniki.kinimatorama.net
 /event/163896 
DTSTART:20240321T070000Z
DTEND:20240321T080000Z
GEO:+40.639326;+22.932823
LOCATION:Θεσσαλονίκη\, \nΔικαστήρια Θεσσαλονίκης
SUMMARY:Δίκη Δημήτρη Χατζηβασιλειάδη για απαλλοτρίωση τράπεζας (Θεσσαλονίκη
  2021)
URL:https://thessaloniki.kinimatorama.net/event/163896
END:VEVENT
END:VCALENDAR
