BEGIN:VCALENDAR
VERSION:2.0
PRODID:-//demosphere.net//NONSGML kigkonsult.se iCalcreator 2.22.1//
METHOD:REQUEST
X-WR-TIMEZONE:Europe/Athens
BEGIN:VEVENT
UID:https://thessaloniki.kinimatorama.net/event/163901
DTSTAMP:20240413T200000Z
DESCRIPTION:περισσότερες πληροφορίες: https://thessaloniki.kinimatorama.net
 /event/163901 
DTSTART:20240413T200000Z
DTEND:20240413T210000Z
GEO:+40.633903;+22.95648
LOCATION:Θεσσαλονίκη\, \nΣχολή Θετικών Επιστημών (ΣΘΕ) ΑΠΘ
SUMMARY:*ΑΝΑΒΑΛΛΕΤΑΙ* Πάρτυ οικονομικής ενίσχυσης ΜωβΑμόκ
URL:https://thessaloniki.kinimatorama.net/event/163901
END:VEVENT
END:VCALENDAR
