BEGIN:VCALENDAR
VERSION:2.0
PRODID:-//demosphere.net//NONSGML kigkonsult.se iCalcreator 2.22.1//
METHOD:REQUEST
X-WR-TIMEZONE:Europe/Athens
BEGIN:VEVENT
UID:https://thessaloniki.kinimatorama.net/event/16406
DTSTAMP:20120120T180000Z
DESCRIPTION:περισσότερες πληροφορίες: https://thessaloniki.kinimatorama.net
 /event/16406 
DTSTART:20120120T180000Z
DTEND:20120120T190000Z
GEO:+38.00095;+23.737762
LOCATION:Αθήνα\, \nΔημοτική Αγορά Κυψέλης \nΦωκίωνος Νέγρη 42
SUMMARY:Εκδήλωση: Πράσινη ανάπτυξη και πράσινες μπίζνες
URL:https://thessaloniki.kinimatorama.net/event/16406
END:VEVENT
END:VCALENDAR
