BEGIN:VCALENDAR
VERSION:2.0
PRODID:-//demosphere.net//NONSGML kigkonsult.se iCalcreator 2.22.1//
METHOD:REQUEST
X-WR-TIMEZONE:Europe/Athens
BEGIN:VEVENT
UID:https://thessaloniki.kinimatorama.net/event/164393
DTSTAMP:20240328T150000Z
DESCRIPTION:περισσότερες πληροφορίες: https://thessaloniki.kinimatorama.net
 /event/164393 
DTSTART:20240328T150000Z
DTEND:20240328T160000Z
GEO:+37.969017;+23.780422
LOCATION:Ζωγράφου\, \nΑναρχικό Στέκι Φιλοσοφικής \nαίθουσα 819\, 8ος όροφος
  \nΠανεπιστημιούπολη Ζωγράφου
SUMMARY:Καφενείο και λειτουργία του βιβλιοπωλείου Μαυροκόκκινο Νήμα
URL:https://thessaloniki.kinimatorama.net/event/164393
END:VEVENT
END:VCALENDAR
