BEGIN:VCALENDAR
VERSION:2.0
PRODID:-//demosphere.net//NONSGML kigkonsult.se iCalcreator 2.22.1//
METHOD:REQUEST
X-WR-TIMEZONE:Europe/Athens
BEGIN:VEVENT
UID:https://thessaloniki.kinimatorama.net/event/164404
DTSTAMP:20240329T150000Z
DESCRIPTION:περισσότερες πληροφορίες: https://thessaloniki.kinimatorama.net
 /event/164404 
DTSTART:20240329T150000Z
DTEND:20240329T160000Z
GEO:+40.633903;+22.95648
LOCATION:Θεσσαλονίκη\, \nΣχολή Θετικών Επιστημών (ΣΘΕ) ΑΠΘ
SUMMARY:Γνωρίζουμε τον φοιτητικό μας σύλλογο και τις δομές του.
URL:https://thessaloniki.kinimatorama.net/event/164404
END:VEVENT
END:VCALENDAR
