BEGIN:VCALENDAR
VERSION:2.0
PRODID:-//demosphere.net//NONSGML kigkonsult.se iCalcreator 2.22.1//
METHOD:REQUEST
X-WR-TIMEZONE:Europe/Athens
BEGIN:VEVENT
UID:https://thessaloniki.kinimatorama.net/event/164665
DTSTAMP:20240403T083000Z
DESCRIPTION:περισσότερες πληροφορίες: https://thessaloniki.kinimatorama.net
 /event/164665 
DTSTART:20240403T083000Z
DTEND:20240403T093000Z
GEO:+37.995376;+23.743086
LOCATION:Αθήνα\, \nΔικαστήρια Ευελπίδων
SUMMARY:Παρέμβαση αλληλεγγύης στη δίκη του ρατσιστή εργοδότη για ξυλοδαρμό 
 μετανάστη διανομέα
URL:https://thessaloniki.kinimatorama.net/event/164665
END:VEVENT
END:VCALENDAR
