BEGIN:VCALENDAR
VERSION:2.0
PRODID:-//demosphere.net//NONSGML kigkonsult.se iCalcreator 2.22.1//
METHOD:REQUEST
X-WR-TIMEZONE:Europe/Athens
BEGIN:VEVENT
UID:https://thessaloniki.kinimatorama.net/event/164772
DTSTAMP:20240424T080000Z
DESCRIPTION:περισσότερες πληροφορίες: https://thessaloniki.kinimatorama.net
 /event/164772 
DTSTART:20240424T080000Z
DTEND:20240424T090000Z
GEO:+40.639326;+22.932823
LOCATION:Θεσσαλονίκη\, \nΔικαστήρια Θεσσαλονίκης
SUMMARY:(αναβάλλεται) Συγκέντρωση αλληλεγγύης στους συντρόφους Δ.Σ. και Ρ.Ζ
 .
URL:https://thessaloniki.kinimatorama.net/event/164772
END:VEVENT
END:VCALENDAR
