BEGIN:VCALENDAR
VERSION:2.0
PRODID:-//demosphere.net//NONSGML kigkonsult.se iCalcreator 2.22.1//
METHOD:REQUEST
X-WR-TIMEZONE:Europe/Athens
BEGIN:VEVENT
UID:https://thessaloniki.kinimatorama.net/event/165264
DTSTAMP:20240417T173000Z
DESCRIPTION:περισσότερες πληροφορίες: https://thessaloniki.kinimatorama.net
 /event/165264 
DTSTART:20240417T173000Z
DTEND:20240417T183000Z
GEO:+40.639936;+22.938682
LOCATION:Θεσσαλονίκη\, \nΓυμναστήριο Α.Σ. Απάλευτου \nΣελευκιδών 1
SUMMARY:Προπόνηση Α.Σ. Απάλευτος: Kick Boxing - Πυγμαχία
URL:https://thessaloniki.kinimatorama.net/event/165264
END:VEVENT
END:VCALENDAR
