BEGIN:VCALENDAR
VERSION:2.0
PRODID:-//demosphere.net//NONSGML kigkonsult.se iCalcreator 2.22.1//
METHOD:REQUEST
X-WR-TIMEZONE:Europe/Athens
BEGIN:VEVENT
UID:https://thessaloniki.kinimatorama.net/event/165277
DTSTAMP:20240416T170000Z
DESCRIPTION:περισσότερες πληροφορίες: https://thessaloniki.kinimatorama.net
 /event/165277 
DTSTART:20240416T170000Z
DTEND:20240416T180000Z
GEO:+40.633903;+22.95648
LOCATION:Θεσσαλονίκη\, \nΣχολή Θετικών Επιστημών (ΣΘΕ) ΑΠΘ
SUMMARY:C.U.M & CineDroga προβάλλουν: Ten (2002) & Κάλεσμα νέων μελών
URL:https://thessaloniki.kinimatorama.net/event/165277
END:VEVENT
END:VCALENDAR
