BEGIN:VCALENDAR
VERSION:2.0
PRODID:-//demosphere.net//NONSGML kigkonsult.se iCalcreator 2.22.1//
METHOD:REQUEST
X-WR-TIMEZONE:Europe/Athens
BEGIN:VEVENT
UID:https://thessaloniki.kinimatorama.net/event/165386
DTSTAMP:20240416T180000Z
DESCRIPTION:περισσότερες πληροφορίες: https://thessaloniki.kinimatorama.net
 /event/165386 
DTSTART:20240416T180000Z
DTEND:20240416T190000Z
GEO:+38.00095;+23.737762
LOCATION:Αθήνα\, \nΔημοτική Αγορά Κυψέλης \nΦωκίωνος Νέγρη 42
SUMMARY:ΕΚΤΑΚΤΟ: Κάλεσμα σε πορεία\, σε αλληλεγγύη με τα συλληφθέντα συντρό
 φια
URL:https://thessaloniki.kinimatorama.net/event/165386
END:VEVENT
END:VCALENDAR
