BEGIN:VCALENDAR
VERSION:2.0
PRODID:-//demosphere.net//NONSGML kigkonsult.se iCalcreator 2.22.1//
METHOD:REQUEST
X-WR-TIMEZONE:Europe/Athens
BEGIN:VEVENT
UID:https://thessaloniki.kinimatorama.net/event/165959
DTSTAMP:20240517T060000Z
DESCRIPTION:περισσότερες πληροφορίες: https://thessaloniki.kinimatorama.net
 /event/165959 
DTSTART:20240517T060000Z
DTEND:20240517T070000Z
GEO:+37.995376;+23.743086
LOCATION:Αθήνα\, \nΔικαστήρια Ευελπίδων
SUMMARY:Συγκέντρωση αλληλεγγυης για τους 46 συλληφθέντες/είσες της μοτοπορε
 ίας στις 11/6/20
URL:https://thessaloniki.kinimatorama.net/event/165959
END:VEVENT
END:VCALENDAR
