BEGIN:VCALENDAR
VERSION:2.0
PRODID:-//demosphere.net//NONSGML kigkonsult.se iCalcreator 2.22.1//
METHOD:REQUEST
X-WR-TIMEZONE:Europe/Athens
BEGIN:VEVENT
UID:https://thessaloniki.kinimatorama.net/event/166021
DTSTAMP:20240526T140000Z
DESCRIPTION:περισσότερες πληροφορίες: https://thessaloniki.kinimatorama.net
 /event/166021 
DTSTART:20240526T140000Z
DTEND:20240526T150000Z
GEO:+40.638358;+22.959409
LOCATION:Θεσσαλονίκη\, \nΚήποι του πασά \nΆγιος Παύλος
SUMMARY:Ρεμπέτικο γλέντι οικονομικής ενίσχυσης
URL:https://thessaloniki.kinimatorama.net/event/166021
END:VEVENT
END:VCALENDAR
