BEGIN:VCALENDAR
VERSION:2.0
PRODID:-//demosphere.net//NONSGML kigkonsult.se iCalcreator 2.22.1//
METHOD:REQUEST
X-WR-TIMEZONE:Europe/Athens
BEGIN:VEVENT
UID:https://thessaloniki.kinimatorama.net/event/166121
DTSTAMP:20240512T120000Z
DESCRIPTION:περισσότερες πληροφορίες: https://thessaloniki.kinimatorama.net
 /event/166121 
DTSTART:20240512T120000Z
DTEND:20240512T130000Z
GEO:+40.638358;+22.959409
LOCATION:Θεσσαλονίκη\, \nΚήποι του πασά \nΆγιος Παύλος
SUMMARY:Εκρηκτικό Τουρνουά Βόλεϊ
URL:https://thessaloniki.kinimatorama.net/event/166121
END:VEVENT
END:VCALENDAR
