BEGIN:VCALENDAR
VERSION:2.0
PRODID:-//demosphere.net//NONSGML kigkonsult.se iCalcreator 2.22.1//
METHOD:REQUEST
X-WR-TIMEZONE:Europe/Athens
BEGIN:VEVENT
UID:https://thessaloniki.kinimatorama.net/event/166148
DTSTAMP:20240510T190000Z
DESCRIPTION:περισσότερες πληροφορίες: https://thessaloniki.kinimatorama.net
 /event/166148 
DTSTART:20240510T190000Z
DTEND:20240510T200000Z
GEO:+35.341459;+25.132416
LOCATION:Ηράκλειο\, \nΚατάληψη Ευαγγελισμού \nΘεοτοκοπούλου 18
SUMMARY:Αυτοδιαχειριζόμενο καφενείο για την οικονομική ενίσχυση της Κατάληψ
 ης Ευαγγελισμού.
URL:https://thessaloniki.kinimatorama.net/event/166148
END:VEVENT
END:VCALENDAR
