BEGIN:VCALENDAR
VERSION:2.0
PRODID:-//demosphere.net//NONSGML kigkonsult.se iCalcreator 2.22.1//
METHOD:REQUEST
X-WR-TIMEZONE:Europe/Athens
BEGIN:VEVENT
UID:https://thessaloniki.kinimatorama.net/event/166433
DTSTAMP:20240516T090000Z
DESCRIPTION:περισσότερες πληροφορίες: https://thessaloniki.kinimatorama.net
 /event/166433 
DTSTART:20240516T090000Z
DTEND:20240516T100000Z
GEO:+37.995376;+23.743086
LOCATION:Αθήνα\, \nΔικαστήρια Ευελπίδων
SUMMARY:[Αθήνα] Συγκεντρωση αλληλεγγυης για τα συλληφθεντα της πορειας για 
 την Παλαιστινη
URL:https://thessaloniki.kinimatorama.net/event/166433
END:VEVENT
END:VCALENDAR
