BEGIN:VCALENDAR
VERSION:2.0
PRODID:-//demosphere.net//NONSGML kigkonsult.se iCalcreator 2.22.1//
METHOD:REQUEST
X-WR-TIMEZONE:Europe/Athens
BEGIN:VEVENT
UID:https://thessaloniki.kinimatorama.net/event/166801
DTSTAMP:20240601T173000Z
DESCRIPTION:περισσότερες πληροφορίες: https://thessaloniki.kinimatorama.net
 /event/166801 
DTSTART:20240601T173000Z
DTEND:20240601T183000Z
GEO:+37.968612;+23.746455
LOCATION:Αθήνα\, \nΆλσος Παγκρατίου \nΣπ.Μερκούρη & Ευτυχίδου \n(Τρόλεϊ 2\,
 11 - Λεωφορεία 203\,204\,204B\,211 \nστάση ΑΛΣΟΣ)
SUMMARY:Punk live\, για την οικονομική ενίσχυση δομών αλληλεγγύης
URL:https://thessaloniki.kinimatorama.net/event/166801
END:VEVENT
END:VCALENDAR
