BEGIN:VCALENDAR
VERSION:2.0
PRODID:-//demosphere.net//NONSGML kigkonsult.se iCalcreator 2.22.1//
METHOD:REQUEST
X-WR-TIMEZONE:Europe/Athens
BEGIN:VEVENT
UID:https://thessaloniki.kinimatorama.net/event/16714
DTSTAMP:20120215T153000Z
DESCRIPTION:περισσότερες πληροφορίες: https://thessaloniki.kinimatorama.net
 /event/16714 
DTSTART:20120215T153000Z
DTEND:20120215T163000Z
GEO:+39.664199;+20.8541
LOCATION:Ιωάννινα\, \nΑυτοδιαχειριζόμενος Κοινωνικός Χώρος Ιωαννίνων \n( ΑΚ
 ΟΙΧΙ ) \nΠλατεία Νεομάρτυρος Ιωάννη 5 \n(κάτω από το δημοτικό ωδείο)
SUMMARY:Διαχειριστική συνέλευση του Αυτόνομου ραδιοφώνου
URL:https://thessaloniki.kinimatorama.net/event/16714
END:VEVENT
END:VCALENDAR
