BEGIN:VCALENDAR
VERSION:2.0
PRODID:-//demosphere.net//NONSGML kigkonsult.se iCalcreator 2.22.1//
METHOD:REQUEST
X-WR-TIMEZONE:Europe/Athens
BEGIN:VEVENT
UID:https://thessaloniki.kinimatorama.net/event/167293
DTSTAMP:20240611T150000Z
DESCRIPTION:περισσότερες πληροφορίες: https://thessaloniki.kinimatorama.net
 /event/167293 
DTSTART:20240611T150000Z
DTEND:20240611T160000Z
GEO:+37.988214;+23.738987
LOCATION:Αθήνα\, \nΛόφος Στρέφη \nΕξάρχεια
SUMMARY:Συλλογικό καθάρισμα λόφου Στρέφη
URL:https://thessaloniki.kinimatorama.net/event/167293
END:VEVENT
END:VCALENDAR
