BEGIN:VCALENDAR
VERSION:2.0
PRODID:-//demosphere.net//NONSGML kigkonsult.se iCalcreator 2.22.1//
METHOD:REQUEST
X-WR-TIMEZONE:Europe/Athens
BEGIN:VEVENT
UID:https://thessaloniki.kinimatorama.net/event/167480
DTSTAMP:20240616T183000Z
DESCRIPTION:περισσότερες πληροφορίες: https://thessaloniki.kinimatorama.net
 /event/167480 
DTSTART:20240616T183000Z
DTEND:20240616T193000Z
GEO:+40.633903;+22.95648
LOCATION:Θεσσαλονίκη\, \nΣχολή Θετικών Επιστημών (ΣΘΕ) ΑΠΘ
SUMMARY:The Laramie Project: Παράσταση Θεατρικής Ομάδας Φυσικού
URL:https://thessaloniki.kinimatorama.net/event/167480
END:VEVENT
END:VCALENDAR
