BEGIN:VCALENDAR
VERSION:2.0
PRODID:-//demosphere.net//NONSGML kigkonsult.se iCalcreator 2.22.1//
METHOD:REQUEST
X-WR-TIMEZONE:Europe/Athens
BEGIN:VEVENT
UID:https://thessaloniki.kinimatorama.net/event/167531
DTSTAMP:20240613T150000Z
DESCRIPTION:περισσότερες πληροφορίες: https://thessaloniki.kinimatorama.net
 /event/167531 
DTSTART:20240613T150000Z
DTEND:20240613T160000Z
GEO:+40.633903;+22.95648
LOCATION:Θεσσαλονίκη\, \nΣχολή Θετικών Επιστημών (ΣΘΕ) ΑΠΘ
SUMMARY:Καφενείο-συζήτηση σχετικά με τις δομές και τα στέκια εντός των σχολ
 ών
URL:https://thessaloniki.kinimatorama.net/event/167531
END:VEVENT
END:VCALENDAR
