BEGIN:VCALENDAR
VERSION:2.0
PRODID:-//demosphere.net//NONSGML kigkonsult.se iCalcreator 2.22.1//
METHOD:REQUEST
X-WR-TIMEZONE:Europe/Athens
BEGIN:VEVENT
UID:https://thessaloniki.kinimatorama.net/event/167696
DTSTAMP:20240622T070000Z
DESCRIPTION:περισσότερες πληροφορίες: https://thessaloniki.kinimatorama.net
 /event/167696 
DTSTART:20240622T070000Z
DTEND:20240622T080000Z
GEO:+37.995376;+23.743086
LOCATION:Αθήνα\, \nΔικαστήρια Ευελπίδων
SUMMARY:[Αθήνα] Κάλεσμα αλληλεγγύης με τον 15χρονο Χ.Κ.\, συλληφθέντα των Π
 ροσφυγικών
URL:https://thessaloniki.kinimatorama.net/event/167696
END:VEVENT
END:VCALENDAR
