BEGIN:VCALENDAR
VERSION:2.0
PRODID:-//demosphere.net//NONSGML kigkonsult.se iCalcreator 2.22.1//
METHOD:REQUEST
X-WR-TIMEZONE:Europe/Athens
BEGIN:VEVENT
UID:https://thessaloniki.kinimatorama.net/event/167742
DTSTAMP:20240629T150000Z
DESCRIPTION:περισσότερες πληροφορίες: https://thessaloniki.kinimatorama.net
 /event/167742 
DTSTART:20240629T150000Z
DTEND:20240629T160000Z
GEO:+38.010216;+23.731912
LOCATION:Αθήνα\, \nΦυτευτή \nΣίφνου & Αιλιανού \nΚάτω Πατήσια \n(4' περπάτη
 μα από ΗΣΑΠ Κ.Πατήσια)
SUMMARY:Μπασκετάκια 3x3 και open mics στην Φυτευτή
URL:https://thessaloniki.kinimatorama.net/event/167742
END:VEVENT
END:VCALENDAR
