BEGIN:VCALENDAR
VERSION:2.0
PRODID:-//demosphere.net//NONSGML kigkonsult.se iCalcreator 2.22.1//
METHOD:REQUEST
X-WR-TIMEZONE:Europe/Athens
BEGIN:VEVENT
UID:https://thessaloniki.kinimatorama.net/event/167914
DTSTAMP:20240629T160000Z
DESCRIPTION:περισσότερες πληροφορίες: https://thessaloniki.kinimatorama.net
 /event/167914 
DTSTART:20240629T160000Z
DTEND:20240629T170000Z
GEO:+37.988037;+23.754651
LOCATION:Αθήνα\, \nΚατειλημμένα Προσφυγικά Λ. Αλεξάνδρας \nΑμπελόκηποι \n(3
 ' περπάτημα από Μετρό Αμπελόκηποι)
SUMMARY:Περιφρούρηση της κοινότητας των κατειλημμένων προσφυγικών
URL:https://thessaloniki.kinimatorama.net/event/167914
END:VEVENT
END:VCALENDAR
