BEGIN:VCALENDAR
VERSION:2.0
PRODID:-//demosphere.net//NONSGML kigkonsult.se iCalcreator 2.22.1//
METHOD:REQUEST
X-WR-TIMEZONE:Europe/Athens
BEGIN:VEVENT
UID:https://thessaloniki.kinimatorama.net/event/168170
DTSTAMP:20240712T063000Z
DESCRIPTION:περισσότερες πληροφορίες: https://thessaloniki.kinimatorama.net
 /event/168170 
DTSTART:20240712T063000Z
DTEND:20240712T073000Z
GEO:+37.995376;+23.743086
LOCATION:Αθήνα\, \nΔικαστήρια Ευελπίδων
SUMMARY:Συγκέντρωση Αλληλεγγύης στον αναρχικό Αντρέα Φ.
URL:https://thessaloniki.kinimatorama.net/event/168170
END:VEVENT
END:VCALENDAR
