BEGIN:VCALENDAR
VERSION:2.0
PRODID:-//demosphere.net//NONSGML kigkonsult.se iCalcreator 2.22.1//
METHOD:REQUEST
X-WR-TIMEZONE:Europe/Athens
BEGIN:VEVENT
UID:https://thessaloniki.kinimatorama.net/event/168551
DTSTAMP:20240825T160000Z
DESCRIPTION:περισσότερες πληροφορίες: https://thessaloniki.kinimatorama.net
 /event/168551 
DTSTART:20240825T160000Z
DTEND:20240825T170000Z
GEO:+37.988037;+23.754651
LOCATION:Αθήνα\, \nΚατειλημμένα Προσφυγικά Λ. Αλεξάνδρας \nΑμπελόκηποι \n(3
 ' περπάτημα από Μετρό Αμπελόκηποι)
SUMMARY:2η απο κοινου συναντηση για την πλαισιωση των καταληψεων κ απελευθε
 ρωμενων χωρων…
URL:https://thessaloniki.kinimatorama.net/event/168551
END:VEVENT
END:VCALENDAR
