BEGIN:VCALENDAR
VERSION:2.0
PRODID:-//demosphere.net//NONSGML kigkonsult.se iCalcreator 2.22.1//
METHOD:REQUEST
X-WR-TIMEZONE:Europe/Athens
BEGIN:VEVENT
UID:https://thessaloniki.kinimatorama.net/event/168582
DTSTAMP:20240831T003300Z
DESCRIPTION:περισσότερες πληροφορίες: https://thessaloniki.kinimatorama.net
 /event/168582 
DTSTART;VALUE=DATE:20240831
GEO:+37.988037;+23.754651
LOCATION:Αθήνα\, \nΚατειλημμένα Προσφυγικά Λ. Αλεξάνδρας \nΑμπελόκηποι \n(3
 ' περπάτημα από Μετρό Αμπελόκηποι)
SUMMARY:[GR/ENG] Συλλογικό πρόγραμμα Κοινότητας Κατειλημμένων Προσφυγικών
URL:https://thessaloniki.kinimatorama.net/event/168582
END:VEVENT
END:VCALENDAR
