BEGIN:VCALENDAR
VERSION:2.0
PRODID:-//demosphere.net//NONSGML kigkonsult.se iCalcreator 2.22.1//
METHOD:REQUEST
X-WR-TIMEZONE:Europe/Athens
BEGIN:VEVENT
UID:https://thessaloniki.kinimatorama.net/event/168848
DTSTAMP:20240915T160000Z
DESCRIPTION:περισσότερες πληροφορίες: https://thessaloniki.kinimatorama.net
 /event/168848 
DTSTART:20240915T160000Z
DTEND:20240915T170000Z
GEO:+37.988214;+23.738987
LOCATION:Αθήνα\, \nΛόφος Στρέφη \nΕξάρχεια
SUMMARY:Συνέλευση Ταμείου Αλληλεγγύης Φυλακισμένων και Διωκόμενων αγωνιστών
 -στριών
URL:https://thessaloniki.kinimatorama.net/event/168848
END:VEVENT
END:VCALENDAR
