BEGIN:VCALENDAR
VERSION:2.0
PRODID:-//demosphere.net//NONSGML kigkonsult.se iCalcreator 2.22.1//
METHOD:REQUEST
X-WR-TIMEZONE:Europe/Athens
BEGIN:VEVENT
UID:https://thessaloniki.kinimatorama.net/event/169045
DTSTAMP:20240917T073000Z
DESCRIPTION:περισσότερες πληροφορίες: https://thessaloniki.kinimatorama.net
 /event/169045 
DTSTART:20240917T073000Z
DTEND:20240917T083000Z
GEO:+37.995376;+23.743086
LOCATION:Αθήνα\, \nΔικαστήρια Ευελπίδων
SUMMARY:Συγκέντρωση αλληλεγγύης στα συλληφθέντα για αντικατασταλτική πορεία
  υπεράσπισης…
URL:https://thessaloniki.kinimatorama.net/event/169045
END:VEVENT
END:VCALENDAR
