BEGIN:VCALENDAR
VERSION:2.0
PRODID:-//demosphere.net//NONSGML kigkonsult.se iCalcreator 2.22.1//
METHOD:REQUEST
X-WR-TIMEZONE:Europe/Athens
BEGIN:VEVENT
UID:https://thessaloniki.kinimatorama.net/event/169645
DTSTAMP:20241009T150000Z
DESCRIPTION:περισσότερες πληροφορίες: https://thessaloniki.kinimatorama.net
 /event/169645 
DTSTART:20241009T150000Z
DTEND:20241009T160000Z
GEO:+40.633903;+22.95648
LOCATION:Θεσσαλονίκη\, \nΣχολή Θετικών Επιστημών (ΣΘΕ) ΑΠΘ
SUMMARY:Συνέλευση για τις συλλήψεις των συντρόφων D. Klette (RAF) & L. Bert
 ulazzi (BR)
URL:https://thessaloniki.kinimatorama.net/event/169645
END:VEVENT
END:VCALENDAR
