BEGIN:VCALENDAR
VERSION:2.0
PRODID:-//demosphere.net//NONSGML kigkonsult.se iCalcreator 2.22.1//
METHOD:REQUEST
X-WR-TIMEZONE:Europe/Athens
BEGIN:VEVENT
UID:https://thessaloniki.kinimatorama.net/event/169692
DTSTAMP:20241020T130000Z
DESCRIPTION:περισσότερες πληροφορίες: https://thessaloniki.kinimatorama.net
 /event/169692 
DTSTART:20241020T130000Z
DTEND:20241020T140000Z
GEO:+37.987555;+23.735275
LOCATION:Αθήνα\, \nΚηπάκι της Τσαμαδού \nΤσαμαδού 12 \nΕξάρχεια
SUMMARY:Ρεμπετικο γλεντι οικονομικής ενίσχυσης
URL:https://thessaloniki.kinimatorama.net/event/169692
END:VEVENT
END:VCALENDAR
