BEGIN:VCALENDAR
VERSION:2.0
PRODID:-//demosphere.net//NONSGML kigkonsult.se iCalcreator 2.22.1//
METHOD:REQUEST
X-WR-TIMEZONE:Europe/Athens
BEGIN:VEVENT
UID:https://thessaloniki.kinimatorama.net/event/169716
DTSTAMP:20241014T180000Z
DESCRIPTION:περισσότερες πληροφορίες: https://thessaloniki.kinimatorama.net
 /event/169716 
DTSTART:20241014T180000Z
DTEND:20241014T190000Z
GEO:+40.633903;+22.95648
LOCATION:Θεσσαλονίκη\, \nΣχολή Θετικών Επιστημών (ΣΘΕ) ΑΠΘ
SUMMARY:Θεατρική Ομάδα Φυσικού (ΘΟΦ): Ανοιχτές Πρόβες
URL:https://thessaloniki.kinimatorama.net/event/169716
END:VEVENT
END:VCALENDAR
