BEGIN:VCALENDAR
VERSION:2.0
PRODID:-//demosphere.net//NONSGML kigkonsult.se iCalcreator 2.22.1//
METHOD:REQUEST
X-WR-TIMEZONE:Europe/Athens
BEGIN:VEVENT
UID:https://thessaloniki.kinimatorama.net/event/169749
DTSTAMP:20241008T170000Z
DESCRIPTION:περισσότερες πληροφορίες: https://thessaloniki.kinimatorama.net
 /event/169749 
DTSTART:20241008T170000Z
DTEND:20241008T180000Z
GEO:+37.9895;+23.737333
LOCATION:Αθήνα\, \nΕκλάμψεις \nχώρος βιβλίου στα Εξάρχεια \nΙουστινιανού 13
SUMMARY:Άνοιγμα βιβλιοθήκης-μπαρ
URL:https://thessaloniki.kinimatorama.net/event/169749
END:VEVENT
END:VCALENDAR
