BEGIN:VCALENDAR
VERSION:2.0
PRODID:-//demosphere.net//NONSGML kigkonsult.se iCalcreator 2.22.1//
METHOD:REQUEST
X-WR-TIMEZONE:Europe/Athens
BEGIN:VEVENT
UID:https://thessaloniki.kinimatorama.net/event/169757
DTSTAMP:20241008T090000Z
DESCRIPTION:περισσότερες πληροφορίες: https://thessaloniki.kinimatorama.net
 /event/169757 
DTSTART:20241008T090000Z
DTEND:20241008T100000Z
GEO:+37.995376;+23.743086
LOCATION:Αθήνα\, \nΔικαστήρια Ευελπίδων
SUMMARY:[Αθήνα] Συγκέντρωση αλληλεγγύης για τα 10 συλληφθέντα της χθεσινής 
 πορείας
URL:https://thessaloniki.kinimatorama.net/event/169757
END:VEVENT
END:VCALENDAR
