BEGIN:VCALENDAR
VERSION:2.0
PRODID:-//demosphere.net//NONSGML kigkonsult.se iCalcreator 2.22.1//
METHOD:REQUEST
X-WR-TIMEZONE:Europe/Athens
BEGIN:VEVENT
UID:https://thessaloniki.kinimatorama.net/event/169772
DTSTAMP:20241009T170000Z
DESCRIPTION:περισσότερες πληροφορίες: https://thessaloniki.kinimatorama.net
 /event/169772 
DTSTART:20241009T170000Z
DTEND:20241009T180000Z
GEO:+37.968612;+23.746455
LOCATION:Αθήνα\, \nΆλσος Παγκρατίου \nΣπ.Μερκούρη & Ευτυχίδου \n(Τρόλεϊ 2\,
 11 - Λεωφορεία 203\,204\,204B\,211 \nστάση ΑΛΣΟΣ)
SUMMARY:Ελεύθερες προβολές στο Άλσος Παγκρατίου\, για την έμφυλη βία Τετάρτ
 η 9/10 'CAIRO 678'
URL:https://thessaloniki.kinimatorama.net/event/169772
END:VEVENT
END:VCALENDAR
