BEGIN:VCALENDAR
VERSION:2.0
PRODID:-//demosphere.net//NONSGML kigkonsult.se iCalcreator 2.22.1//
METHOD:REQUEST
X-WR-TIMEZONE:Europe/Athens
BEGIN:VEVENT
UID:https://thessaloniki.kinimatorama.net/event/169812
DTSTAMP:20241015T150000Z
DESCRIPTION:περισσότερες πληροφορίες: https://thessaloniki.kinimatorama.net
 /event/169812 
DTSTART:20241015T150000Z
DTEND:20241015T160000Z
GEO:+40.633903;+22.95648
LOCATION:Θεσσαλονίκη\, \nΣχολή Θετικών Επιστημών (ΣΘΕ) ΑΠΘ
SUMMARY:Συνέλευση του Ταμείου αλληλεγγύης φυλακισμένων και διωκόμενων αγωνι
 στ(ρι)ών
URL:https://thessaloniki.kinimatorama.net/event/169812
END:VEVENT
END:VCALENDAR
