BEGIN:VCALENDAR
VERSION:2.0
PRODID:-//demosphere.net//NONSGML kigkonsult.se iCalcreator 2.22.1//
METHOD:REQUEST
X-WR-TIMEZONE:Europe/Athens
BEGIN:VEVENT
UID:https://thessaloniki.kinimatorama.net/event/170218
DTSTAMP:20241024T173000Z
DESCRIPTION:περισσότερες πληροφορίες: https://thessaloniki.kinimatorama.net
 /event/170218 
DTSTART:20241024T173000Z
DTEND:20241024T183000Z
GEO:+37.960728;+23.75523
LOCATION:Βύρωνας\, \nΚοινωνικό Πολιτιστικό Κέντρο Βύρωνα \n'Λαμπηδόνα' \nΆλ
 σος Αγ.Τριάδας \nπρόσβαση: 11(24ωρο)\,203\,204 \nστάση ΑΓΟΡΑ ΒΥΡΩΝΑ
SUMMARY:Cine Λαμπηδόνα\, Ταινία: 'Deux jours\, une nuit' (Δυο μέρες\, μια ν
 ύχτα)
URL:https://thessaloniki.kinimatorama.net/event/170218
END:VEVENT
END:VCALENDAR
