BEGIN:VCALENDAR
VERSION:2.0
PRODID:-//demosphere.net//NONSGML kigkonsult.se iCalcreator 2.22.1//
METHOD:REQUEST
X-WR-TIMEZONE:Europe/Athens
BEGIN:VEVENT
UID:https://thessaloniki.kinimatorama.net/event/17023
DTSTAMP:20120303T100000Z
DESCRIPTION:περισσότερες πληροφορίες: https://thessaloniki.kinimatorama.net
 /event/17023 
DTSTART:20120303T100000Z
DTEND:20120303T110000Z
GEO:+38.00095;+23.737762
LOCATION:Αθήνα\, \nΔημοτική Αγορά Κυψέλης \nΦωκίωνος Νέγρη 42
SUMMARY:Πορεία αλληλεγγύης για καταλήψεις & αυτοδιαχειριζόμενους χώρους
URL:https://thessaloniki.kinimatorama.net/event/17023
END:VEVENT
END:VCALENDAR
