BEGIN:VCALENDAR
VERSION:2.0
PRODID:-//demosphere.net//NONSGML kigkonsult.se iCalcreator 2.22.1//
METHOD:REQUEST
X-WR-TIMEZONE:Europe/Athens
BEGIN:VEVENT
UID:https://thessaloniki.kinimatorama.net/event/170374
DTSTAMP:20241101T070000Z
DESCRIPTION:περισσότερες πληροφορίες: https://thessaloniki.kinimatorama.net
 /event/170374 
DTSTART:20241101T070000Z
DTEND:20241101T080000Z
GEO:+37.995376;+23.743086
LOCATION:Αθήνα\, \nΔικαστήρια Ευελπίδων
SUMMARY:Συγκεντρωση για το δικαστηριο των 79 συλληφθεντων...
URL:https://thessaloniki.kinimatorama.net/event/170374
END:VEVENT
END:VCALENDAR
