BEGIN:VCALENDAR
VERSION:2.0
PRODID:-//demosphere.net//NONSGML kigkonsult.se iCalcreator 2.22.1//
METHOD:REQUEST
X-WR-TIMEZONE:Europe/Athens
BEGIN:VEVENT
UID:https://thessaloniki.kinimatorama.net/event/170443
DTSTAMP:20241129T013300Z
DESCRIPTION:περισσότερες πληροφορίες: https://thessaloniki.kinimatorama.net
 /event/170443 
DTSTART;VALUE=DATE:20241129
GEO:+40.639936;+22.938682
LOCATION:Θεσσαλονίκη\, \nΓυμναστήριο Α.Σ. Απάλευτου \nΣελευκιδών 1
SUMMARY:Προπόνηση Α.Σ. Απάλευτος: Escrima
URL:https://thessaloniki.kinimatorama.net/event/170443
END:VEVENT
END:VCALENDAR
