BEGIN:VCALENDAR
VERSION:2.0
PRODID:-//demosphere.net//NONSGML kigkonsult.se iCalcreator 2.22.1//
METHOD:REQUEST
X-WR-TIMEZONE:Europe/Athens
BEGIN:VEVENT
UID:https://thessaloniki.kinimatorama.net/event/170572
DTSTAMP:20241104T180000Z
DESCRIPTION:περισσότερες πληροφορίες: https://thessaloniki.kinimatorama.net
 /event/170572 
DTSTART:20241104T180000Z
DTEND:20241104T190000Z
GEO:+40.633903;+22.95648
LOCATION:Θεσσαλονίκη\, \nΣχολή Θετικών Επιστημών (ΣΘΕ) ΑΠΘ
SUMMARY:Ανοιχτή φοιτητική συνέλευση αλληλεγγύης στην παλαιστινιακή Αντίστασ
 η
URL:https://thessaloniki.kinimatorama.net/event/170572
END:VEVENT
END:VCALENDAR
