BEGIN:VCALENDAR
VERSION:2.0
PRODID:-//demosphere.net//NONSGML kigkonsult.se iCalcreator 2.22.1//
METHOD:REQUEST
X-WR-TIMEZONE:Europe/Athens
BEGIN:VEVENT
UID:https://thessaloniki.kinimatorama.net/event/170609
DTSTAMP:20241106T070000Z
DESCRIPTION:περισσότερες πληροφορίες: https://thessaloniki.kinimatorama.net
 /event/170609 
DTSTART:20241106T070000Z
DTEND:20241106T080000Z
GEO:+37.995376;+23.743086
LOCATION:Αθήνα\, \nΔικαστήρια Ευελπίδων
SUMMARY:ημέρα έναρξης της δεύτερης δίκης για την υπόθεση trafficking του Κο
 λωνού
URL:https://thessaloniki.kinimatorama.net/event/170609
END:VEVENT
END:VCALENDAR
