BEGIN:VCALENDAR
VERSION:2.0
PRODID:-//demosphere.net//NONSGML kigkonsult.se iCalcreator 2.22.1//
METHOD:REQUEST
X-WR-TIMEZONE:Europe/Athens
BEGIN:VEVENT
UID:https://thessaloniki.kinimatorama.net/event/170775
DTSTAMP:20241108T140000Z
DESCRIPTION:περισσότερες πληροφορίες: https://thessaloniki.kinimatorama.net
 /event/170775 
DTSTART:20241108T140000Z
DTEND:20241108T150000Z
GEO:+37.969017;+23.780422
LOCATION:Ζωγράφου\, \nΑναρχικό Στέκι Φιλοσοφικής \nαίθουσα 819\, 8ος όροφος
  \nΠανεπιστημιούπολη Ζωγράφου
SUMMARY:Εκδήλωση για τα γεγονότα στις εστίες του ΑΠΘ και τις αστυνομικές ει
 σβολές στα …
URL:https://thessaloniki.kinimatorama.net/event/170775
END:VEVENT
END:VCALENDAR
