BEGIN:VCALENDAR
VERSION:2.0
PRODID:-//demosphere.net//NONSGML kigkonsult.se iCalcreator 2.22.1//
METHOD:REQUEST
X-WR-TIMEZONE:Europe/Athens
BEGIN:VEVENT
UID:https://thessaloniki.kinimatorama.net/event/170866
DTSTAMP:20241114T070000Z
DESCRIPTION:περισσότερες πληροφορίες: https://thessaloniki.kinimatorama.net
 /event/170866 
DTSTART:20241114T070000Z
DTEND:20241114T080000Z
GEO:+37.995376;+23.743086
LOCATION:Αθήνα\, \nΔικαστήρια Ευελπίδων
SUMMARY:Για τη δικη της εκκενωσης του Πολυτεχνειου\, τις μερες της καραντιν
 ας\, 13 Νοεμβρη 2020
URL:https://thessaloniki.kinimatorama.net/event/170866
END:VEVENT
END:VCALENDAR
