BEGIN:VCALENDAR
VERSION:2.0
PRODID:-//demosphere.net//NONSGML kigkonsult.se iCalcreator 2.22.1//
METHOD:REQUEST
X-WR-TIMEZONE:Europe/Athens
BEGIN:VEVENT
UID:https://thessaloniki.kinimatorama.net/event/171071
DTSTAMP:20241114T083000Z
DESCRIPTION:περισσότερες πληροφορίες: https://thessaloniki.kinimatorama.net
 /event/171071 
DTSTART:20241114T083000Z
DTEND:20241114T093000Z
GEO:+37.995376;+23.743086
LOCATION:Αθήνα\, \nΔικαστήρια Ευελπίδων
SUMMARY:Συγκέντρωση αλληλεγγύης με τις 3 συλληφθείσες συντρόφισσες στο ΕΜΠ
URL:https://thessaloniki.kinimatorama.net/event/171071
END:VEVENT
END:VCALENDAR
