BEGIN:VCALENDAR
VERSION:2.0
PRODID:-//demosphere.net//NONSGML kigkonsult.se iCalcreator 2.22.1//
METHOD:REQUEST
X-WR-TIMEZONE:Europe/Athens
BEGIN:VEVENT
UID:https://thessaloniki.kinimatorama.net/event/171083
DTSTAMP:20241115T150000Z
DESCRIPTION:περισσότερες πληροφορίες: https://thessaloniki.kinimatorama.net
 /event/171083 
DTSTART:20241115T150000Z
DTEND:20241115T160000Z
GEO:+40.633903;+22.95648
LOCATION:Θεσσαλονίκη\, \nΣχολή Θετικών Επιστημών (ΣΘΕ) ΑΠΘ
SUMMARY:Αν. Συνέλευση Αλληλεγγύης στα διωκόμενα συντρόφια της υπόθεσης Αμπε
 λοκήπων
URL:https://thessaloniki.kinimatorama.net/event/171083
END:VEVENT
END:VCALENDAR
