BEGIN:VCALENDAR
VERSION:2.0
PRODID:-//demosphere.net//NONSGML kigkonsult.se iCalcreator 2.22.1//
METHOD:REQUEST
X-WR-TIMEZONE:Europe/Athens
BEGIN:VEVENT
UID:https://thessaloniki.kinimatorama.net/event/171293
DTSTAMP:20241124T120000Z
DESCRIPTION:περισσότερες πληροφορίες: https://thessaloniki.kinimatorama.net
 /event/171293 
DTSTART:20241124T120000Z
DTEND:20241124T130000Z
GEO:+38.00095;+23.737762
LOCATION:Αθήνα\, \nΔημοτική Αγορά Κυψέλης \nΦωκίωνος Νέγρη 42
SUMMARY:Συγκέντρωση-παρέμβαση ενάντια στις δολοφονίες γατιών στην κυψέλη
URL:https://thessaloniki.kinimatorama.net/event/171293
END:VEVENT
END:VCALENDAR
