BEGIN:VCALENDAR
VERSION:2.0
PRODID:-//demosphere.net//NONSGML kigkonsult.se iCalcreator 2.22.1//
METHOD:REQUEST
X-WR-TIMEZONE:Europe/Athens
BEGIN:VEVENT
UID:https://thessaloniki.kinimatorama.net/event/171384
DTSTAMP:20241129T160000Z
DESCRIPTION:περισσότερες πληροφορίες: https://thessaloniki.kinimatorama.net
 /event/171384 
DTSTART:20241129T160000Z
DTEND:20241129T170000Z
GEO:+40.633903;+22.95648
LOCATION:Θεσσαλονίκη\, \nΣχολή Θετικών Επιστημών (ΣΘΕ) ΑΠΘ
SUMMARY:Συνέλευση για τη διοργάνωση εκδήλωσης στη μνήμη του συντρόφου A. Bo
 nanno
URL:https://thessaloniki.kinimatorama.net/event/171384
END:VEVENT
END:VCALENDAR
