BEGIN:VCALENDAR
VERSION:2.0
PRODID:-//demosphere.net//NONSGML kigkonsult.se iCalcreator 2.22.1//
METHOD:REQUEST
X-WR-TIMEZONE:Europe/Athens
BEGIN:VEVENT
UID:https://thessaloniki.kinimatorama.net/event/171450
DTSTAMP:20241126T163000Z
DESCRIPTION:περισσότερες πληροφορίες: https://thessaloniki.kinimatorama.net
 /event/171450 
DTSTART:20241126T163000Z
DTEND:20241126T173000Z
GEO:+37.994079;+23.732083
LOCATION:Αθήνα\, \nΑΣΟΕΕ \nΠατησίων 76 (28ης Οκτωβρίου) \n(πλησίον σταθμού 
 ΗΣΑΠ Βικτώρια)
SUMMARY:Συνέλευση αλληλεγγύης με τα προφυλακισμένα συντρόφια Μ.Μ.\, Δ.Ζ.\,Δ
 . και Ν.Ρ.
URL:https://thessaloniki.kinimatorama.net/event/171450
END:VEVENT
END:VCALENDAR
