BEGIN:VCALENDAR
VERSION:2.0
PRODID:-//demosphere.net//NONSGML kigkonsult.se iCalcreator 2.22.1//
METHOD:REQUEST
X-WR-TIMEZONE:Europe/Athens
BEGIN:VEVENT
UID:https://thessaloniki.kinimatorama.net/event/171451
DTSTAMP:20241126T160000Z
DESCRIPTION:περισσότερες πληροφορίες: https://thessaloniki.kinimatorama.net
 /event/171451 
DTSTART:20241126T160000Z
DTEND:20241126T170000Z
GEO:+40.633903;+22.95648
LOCATION:Θεσσαλονίκη\, \nΣχολή Θετικών Επιστημών (ΣΘΕ) ΑΠΘ
SUMMARY:Αν συνέλευση αλλ/γγύης στα συντρόφια για την υπόθεση των Αμπελοκήπω
 ν
URL:https://thessaloniki.kinimatorama.net/event/171451
END:VEVENT
END:VCALENDAR
